BEGIN:VCALENDAR
VERSION:2.0
PRODID:-//Minot Junior Golf Association - ECPv6.13.1//NONSGML v1.0//EN
CALSCALE:GREGORIAN
METHOD:PUBLISH
X-ORIGINAL-URL:https://minotjuniorgolf.com
X-WR-CALDESC:Events for Minot Junior Golf Association
REFRESH-INTERVAL;VALUE=DURATION:PT1H
X-Robots-Tag:noindex
X-PUBLISHED-TTL:PT1H
BEGIN:VTIMEZONE
TZID:America/North_Dakota/Center
BEGIN:DAYLIGHT
TZOFFSETFROM:-0600
TZOFFSETTO:-0500
TZNAME:CDT
DTSTART:20250309T080000
END:DAYLIGHT
BEGIN:STANDARD
TZOFFSETFROM:-0500
TZOFFSETTO:-0600
TZNAME:CST
DTSTART:20251102T070000
END:STANDARD
END:VTIMEZONE
BEGIN:VEVENT
DTSTART;TZID=America/North_Dakota/Center:20251201T170000
DTEND;TZID=America/North_Dakota/Center:20251201T220000
DTSTAMP:20260419T162023
CREATED:20251007T033141Z
LAST-MODIFIED:20251007T033141Z
UID:8255-1764608400-1764626400@minotjuniorgolf.com
SUMMARY:MJGA Junior League at The Bunker (Competitive League) Fall/Winter 2025 [WEEK 8 OF 10]
DESCRIPTION:Junior Leagues at The Bunker are Back!! We hope you’ll join us for fun & friendly competition on Monday Nights for our Competitive Junior Leagues.\nWe encourage girls and boys who play on high school teams or those who compete in summer tournaments to participate in this league. Each week will be played at The Bunker. The first week will be a qualifying round to place kids based on skill level\, we will follow that with 9 weeks of competition. This league will also include a putting portion: A season-long competition to see who can make the most putts on the “Random Putts” section of our PuttView system.\n\nAge Groups & Approximate Start Times:Girls 14-18* | 5:15pm\nBoys 8-13 | 6:30pm\nBoys 14-18* | 8:00pm\n*18 year-olds must still be in high school\n**League play times will be determined based on registration numbers and may be adjusted slightly from listed above.\n\nCost: $50/child per 10-week league\n\nFall/Winter Dates: October 13-December 15\nFIND REGISTRATION DETAILS HERE \n\nIf you have any questions please email minotjuniorgolf@gmail.com or call The Bunker at 701-852-4653.
URL:https://minotjuniorgolf.com/event/mjga-junior-league-at-the-bunker-competitive-league-fall-winter-2025-week-8-of-10/
LOCATION:The Bunker\, 305 17th Ave SW Suite D\, Minot\, ND\, 58701\, United States
CATEGORIES:Minot Junior Golf Association Event,The Bunker Event
ATTACH;FMTTYPE=image/png:https://minotjuniorgolf.com/wp-content/uploads/2025/10/THE-BUNKER-Junior-League-1920-x-1080-px.png
ORGANIZER;CN="Minot Junior Golf Association":MAILTO:minotjuniorgolf@gmail.com
END:VEVENT
BEGIN:VEVENT
DTSTART;TZID=America/North_Dakota/Center:20251202T170000
DTEND;TZID=America/North_Dakota/Center:20251202T220000
DTSTAMP:20260419T162023
CREATED:20251007T032310Z
LAST-MODIFIED:20251007T032310Z
UID:8234-1764694800-1764712800@minotjuniorgolf.com
SUMMARY:MJGA Junior League at The Bunker (Beginner League) Fall/Winter 2025 [WEEK 8 of 10]
DESCRIPTION:Junior Leagues at The Bunker are Back!! We hope you’ll join us for fun & friendly competition on Tuesday Nights for our Beginner Junior Leagues.\nWe encourage girls and boys who have just started playing or have limited golf experience to participate in this league. Each week will be played at The Bunker. The first week will be a qualifying round to place kids based on skill level\, we will follow that with 9 weeks of competition. This league will also include a putting portion: A season-long competition to see who can make the most putts on the “Random Putts” section of our PuttView system.\n\nAge Groups & Approximate Start Times:Boys 5-7 | 5:15pm\nGirls 5-7/8-13 | 6:30pm\nBoys 8-13 | 8:00pm\n**League play times will be determined based on registration numbers and may be adjusted slightly from listed above.\n\nCost: $50/child per 10-week league\n\nFall/Winter Dates: October 14-December 16\nFIND REGISTRATION DETAILS HERE\n\n\nIf you have any questions please email minotjuniorgolf@gmail.com or call The Bunker at 701-852-4653.
URL:https://minotjuniorgolf.com/event/mjga-junior-league-at-the-bunker-beginner-league-fall-winter-2025-week-8-of-10/
LOCATION:The Bunker\, 305 17th Ave SW Suite D\, Minot\, ND\, 58701\, United States
CATEGORIES:Minot Junior Golf Association Event,The Bunker Event
ATTACH;FMTTYPE=image/png:https://minotjuniorgolf.com/wp-content/uploads/2025/10/THE-BUNKER-Junior-League-1920-x-1080-px-1.png
ORGANIZER;CN="Minot Junior Golf Association":MAILTO:minotjuniorgolf@gmail.com
END:VEVENT
BEGIN:VEVENT
DTSTART;TZID=America/North_Dakota/Center:20251208T170000
DTEND;TZID=America/North_Dakota/Center:20251208T220000
DTSTAMP:20260419T162023
CREATED:20251007T033205Z
LAST-MODIFIED:20251007T033205Z
UID:8257-1765213200-1765231200@minotjuniorgolf.com
SUMMARY:MJGA Junior League at The Bunker (Competitive League) Fall/Winter 2025 [WEEK 9 OF 10]
DESCRIPTION:Junior Leagues at The Bunker are Back!! We hope you’ll join us for fun & friendly competition on Monday Nights for our Competitive Junior Leagues.\nWe encourage girls and boys who play on high school teams or those who compete in summer tournaments to participate in this league. Each week will be played at The Bunker. The first week will be a qualifying round to place kids based on skill level\, we will follow that with 9 weeks of competition. This league will also include a putting portion: A season-long competition to see who can make the most putts on the “Random Putts” section of our PuttView system.\n\nAge Groups & Approximate Start Times:Girls 14-18* | 5:15pm\nBoys 8-13 | 6:30pm\nBoys 14-18* | 8:00pm\n*18 year-olds must still be in high school\n**League play times will be determined based on registration numbers and may be adjusted slightly from listed above.\n\nCost: $50/child per 10-week league\n\nFall/Winter Dates: October 13-December 15\nFIND REGISTRATION DETAILS HERE \n\nIf you have any questions please email minotjuniorgolf@gmail.com or call The Bunker at 701-852-4653.
URL:https://minotjuniorgolf.com/event/mjga-junior-league-at-the-bunker-competitive-league-fall-winter-2025-week-9-of-10/
LOCATION:The Bunker\, 305 17th Ave SW Suite D\, Minot\, ND\, 58701\, United States
CATEGORIES:Minot Junior Golf Association Event,The Bunker Event
ATTACH;FMTTYPE=image/png:https://minotjuniorgolf.com/wp-content/uploads/2025/10/THE-BUNKER-Junior-League-1920-x-1080-px.png
ORGANIZER;CN="Minot Junior Golf Association":MAILTO:minotjuniorgolf@gmail.com
END:VEVENT
BEGIN:VEVENT
DTSTART;TZID=America/North_Dakota/Center:20251209T170000
DTEND;TZID=America/North_Dakota/Center:20251209T220000
DTSTAMP:20260419T162023
CREATED:20251007T032333Z
LAST-MODIFIED:20251007T032333Z
UID:8236-1765299600-1765317600@minotjuniorgolf.com
SUMMARY:MJGA Junior League at The Bunker (Beginner League) Fall/Winter 2025 [WEEK 9 of 10]
DESCRIPTION:Junior Leagues at The Bunker are Back!! We hope you’ll join us for fun & friendly competition on Tuesday Nights for our Beginner Junior Leagues.\nWe encourage girls and boys who have just started playing or have limited golf experience to participate in this league. Each week will be played at The Bunker. The first week will be a qualifying round to place kids based on skill level\, we will follow that with 9 weeks of competition. This league will also include a putting portion: A season-long competition to see who can make the most putts on the “Random Putts” section of our PuttView system.\n\nAge Groups & Approximate Start Times:Boys 5-7 | 5:15pm\nGirls 5-7/8-13 | 6:30pm\nBoys 8-13 | 8:00pm\n**League play times will be determined based on registration numbers and may be adjusted slightly from listed above.\n\nCost: $50/child per 10-week league\n\nFall/Winter Dates: October 14-December 16\nFIND REGISTRATION DETAILS HERE\n\n\nIf you have any questions please email minotjuniorgolf@gmail.com or call The Bunker at 701-852-4653.
URL:https://minotjuniorgolf.com/event/mjga-junior-league-at-the-bunker-beginner-league-fall-winter-2025-week-9-of-10/
LOCATION:The Bunker\, 305 17th Ave SW Suite D\, Minot\, ND\, 58701\, United States
CATEGORIES:Minot Junior Golf Association Event,The Bunker Event
ATTACH;FMTTYPE=image/png:https://minotjuniorgolf.com/wp-content/uploads/2025/10/THE-BUNKER-Junior-League-1920-x-1080-px-1.png
ORGANIZER;CN="Minot Junior Golf Association":MAILTO:minotjuniorgolf@gmail.com
END:VEVENT
BEGIN:VEVENT
DTSTART;TZID=America/North_Dakota/Center:20251215T170000
DTEND;TZID=America/North_Dakota/Center:20251215T220000
DTSTAMP:20260419T162023
CREATED:20251007T033243Z
LAST-MODIFIED:20251007T033243Z
UID:8259-1765818000-1765836000@minotjuniorgolf.com
SUMMARY:MJGA Junior League at The Bunker (Competitive League) Fall/Winter 2025 [WEEK 10 OF 10]
DESCRIPTION:Junior Leagues at The Bunker are Back!! We hope you’ll join us for fun & friendly competition on Monday Nights for our Competitive Junior Leagues.\nWe encourage girls and boys who play on high school teams or those who compete in summer tournaments to participate in this league. Each week will be played at The Bunker. The first week will be a qualifying round to place kids based on skill level\, we will follow that with 9 weeks of competition. This league will also include a putting portion: A season-long competition to see who can make the most putts on the “Random Putts” section of our PuttView system.\n\nAge Groups & Approximate Start Times:Girls 14-18* | 5:15pm\nBoys 8-13 | 6:30pm\nBoys 14-18* | 8:00pm\n*18 year-olds must still be in high school\n**League play times will be determined based on registration numbers and may be adjusted slightly from listed above.\n\nCost: $50/child per 10-week league\n\nFall/Winter Dates: October 13-December 15\nFIND REGISTRATION DETAILS HERE \n\nIf you have any questions please email minotjuniorgolf@gmail.com or call The Bunker at 701-852-4653.
URL:https://minotjuniorgolf.com/event/mjga-junior-league-at-the-bunker-competitive-league-fall-winter-2025-week-10-of-10/
LOCATION:The Bunker\, 305 17th Ave SW Suite D\, Minot\, ND\, 58701\, United States
CATEGORIES:Minot Junior Golf Association Event,The Bunker Event
ATTACH;FMTTYPE=image/png:https://minotjuniorgolf.com/wp-content/uploads/2025/10/THE-BUNKER-Junior-League-1920-x-1080-px.png
ORGANIZER;CN="Minot Junior Golf Association":MAILTO:minotjuniorgolf@gmail.com
END:VEVENT
BEGIN:VEVENT
DTSTART;TZID=America/North_Dakota/Center:20251216T170000
DTEND;TZID=America/North_Dakota/Center:20251216T220000
DTSTAMP:20260419T162023
CREATED:20251007T032359Z
LAST-MODIFIED:20251007T032359Z
UID:8238-1765904400-1765922400@minotjuniorgolf.com
SUMMARY:MJGA Junior League at The Bunker (Beginner League) Fall/Winter 2025 [WEEK 10 of 10]
DESCRIPTION:Junior Leagues at The Bunker are Back!! We hope you’ll join us for fun & friendly competition on Tuesday Nights for our Beginner Junior Leagues.\nWe encourage girls and boys who have just started playing or have limited golf experience to participate in this league. Each week will be played at The Bunker. The first week will be a qualifying round to place kids based on skill level\, we will follow that with 9 weeks of competition. This league will also include a putting portion: A season-long competition to see who can make the most putts on the “Random Putts” section of our PuttView system.\n\nAge Groups & Approximate Start Times:Boys 5-7 | 5:15pm\nGirls 5-7/8-13 | 6:30pm\nBoys 8-13 | 8:00pm\n**League play times will be determined based on registration numbers and may be adjusted slightly from listed above.\n\nCost: $50/child per 10-week league\n\nFall/Winter Dates: October 14-December 16\nFIND REGISTRATION DETAILS HERE\n\n\nIf you have any questions please email minotjuniorgolf@gmail.com or call The Bunker at 701-852-4653.
URL:https://minotjuniorgolf.com/event/mjga-junior-league-at-the-bunker-beginner-league-fall-winter-2025-week-10-of-10/
LOCATION:The Bunker\, 305 17th Ave SW Suite D\, Minot\, ND\, 58701\, United States
CATEGORIES:Minot Junior Golf Association Event,The Bunker Event
ATTACH;FMTTYPE=image/png:https://minotjuniorgolf.com/wp-content/uploads/2025/10/THE-BUNKER-Junior-League-1920-x-1080-px-1.png
ORGANIZER;CN="Minot Junior Golf Association":MAILTO:minotjuniorgolf@gmail.com
END:VEVENT
END:VCALENDAR