BEGIN:VCALENDAR
VERSION:2.0
PRODID:-//Minot Junior Golf Association - ECPv6.13.1//NONSGML v1.0//EN
CALSCALE:GREGORIAN
METHOD:PUBLISH
X-ORIGINAL-URL:https://minotjuniorgolf.com
X-WR-CALDESC:Events for Minot Junior Golf Association
REFRESH-INTERVAL;VALUE=DURATION:PT1H
X-Robots-Tag:noindex
X-PUBLISHED-TTL:PT1H
BEGIN:VTIMEZONE
TZID:America/North_Dakota/Center
BEGIN:DAYLIGHT
TZOFFSETFROM:-0600
TZOFFSETTO:-0500
TZNAME:CDT
DTSTART:20260308T080000
END:DAYLIGHT
BEGIN:STANDARD
TZOFFSETFROM:-0500
TZOFFSETTO:-0600
TZNAME:CST
DTSTART:20261101T070000
END:STANDARD
END:VTIMEZONE
BEGIN:VEVENT
DTSTART;VALUE=DATE:20260112
DTEND;VALUE=DATE:20260331
DTSTAMP:20260413T102545
CREATED:20251210T004546Z
LAST-MODIFIED:20260114T201255Z
UID:8287-1768176000-1774915199@minotjuniorgolf.com
SUMMARY:MJGA Junior League at The Bunker (Competitive League) Winter/Spring 2026
DESCRIPTION:Junior Leagues at The Bunker are Back in 2026!! We hope you’ll join us for fun & friendly competition on Monday Nights for our Competitive Junior Leagues.\nWe encourage girls and boys who play on high school teams or those who compete in summer tournaments to participate in this league. Each week will be played at The Bunker. The first week will be a qualifying round to place kids based on skill level\, we will follow that with 9 weeks of competition. This league will also include a putting portion: A season-long competition to see who can make the most putts on the “Random Putts” section of our PuttView system.\n\nAge Groups & Approximate Start Times:Girls 14-18* | 5:15pm\nBoys 8-13 | 6:30pm\nBoys 14-18* | 8:00pm\n*18 year-olds must still be in high school\n**League play times will be determined based on registration numbers and may be adjusted slightly from listed above.\n\nCost: $50/child per 10-week league\n\nWinter/Spring Leauge Dates: January 12-March 30\n\nREGISTRATION FOR WINTER/SPRING COMPETITIVE JUNIOR LEAGUE IS NOW CLOSED.\nIf you have any questions please email minotjuniorgolf@gmail.com or call The Bunker at 701-852-4653.
URL:https://minotjuniorgolf.com/event/bunkercompetitiveleague_spring2026/
LOCATION:The Bunker\, 305 17th Ave SW Suite D\, Minot\, ND\, 58701\, United States
CATEGORIES:Minot Junior Golf Association Event,The Bunker Event
ATTACH;FMTTYPE=image/png:https://minotjuniorgolf.com/wp-content/uploads/2025/10/THE-BUNKER-Junior-League-1920-x-1080-px.png
ORGANIZER;CN="Minot Junior Golf Association":MAILTO:minotjuniorgolf@gmail.com
END:VEVENT
BEGIN:VEVENT
DTSTART;VALUE=DATE:20260113
DTEND;VALUE=DATE:20260401
DTSTAMP:20260413T102545
CREATED:20251210T005224Z
LAST-MODIFIED:20260114T133909Z
UID:8289-1768262400-1775001599@minotjuniorgolf.com
SUMMARY:MJGA Junior League at The Bunker (Beginner League) Winter/Spring 2026
DESCRIPTION:Junior Leagues at The Bunker are Back!! We hope you’ll join us for fun & friendly competition on Tuesday Nights for our Beginner Junior Leagues.\nWe encourage girls and boys who have just started playing or have limited golf experience to participate in this league. Each week will be played at The Bunker. The first week will be a qualifying round to place kids based on skill level\, we will follow that with 9 weeks of competition. This league will also include a putting portion: A season-long competition to see who can make the most putts on the “Random Putts” section of our PuttView system.\n\nAge Groups & Approximate Start Times:Boys 5-7 | 5:15pm\nGirls 5-7/8-13 | 6:30pm\nBoys 8-13 | 8:00pm\n**League play times will be determined based on registration numbers and may be adjusted slightly from listed above.\n\nCost: $50/child per 10-week league\n\n\nWinter/Spring League Dates: January 13-March 31\, 2026\n\n\nREGISTRATION FOR WINTER/SPRING BEGINNER JUNIOR LEAGUE IS NOW CLOSED.\nIf you have any questions please email minotjuniorgolf@gmail.com or call The Bunker at 701-852-4653.
URL:https://minotjuniorgolf.com/event/bunkerbeginnerleague_spring2026/
LOCATION:The Bunker\, 305 17th Ave SW Suite D\, Minot\, ND\, 58701\, United States
CATEGORIES:Minot Junior Golf Association Event,The Bunker Event
ATTACH;FMTTYPE=image/png:https://minotjuniorgolf.com/wp-content/uploads/2025/10/THE-BUNKER-Junior-League-1920-x-1080-px-1.png
ORGANIZER;CN="Minot Junior Golf Association":MAILTO:minotjuniorgolf@gmail.com
END:VEVENT
BEGIN:VEVENT
DTSTART;TZID=America/North_Dakota/Center:20260314T090000
DTEND;TZID=America/North_Dakota/Center:20260314T140000
DTSTAMP:20260413T102545
CREATED:20260202T032754Z
LAST-MODIFIED:20260213T203331Z
UID:8320-1773478800-1773496800@minotjuniorgolf.com
SUMMARY:MJGA [FREE] Junior Clinic at the MSU Bubble
DESCRIPTION:Try Golf for FREE with the Minot Junior Golf Association at the Minot State University Bubble!\nThe Minot Junior Golf Association is excited to host a FREE Junior Golf Clinic at the Minot State University Bubble on Saturday\, March 14th. This is a great opportunity for kids (and adults!) to try golf in a fun\, supportive indoor environment…no experience required! \nLed by MJGA Director of Golf Programming\, Parker Bartels\, Dakota Junior Golf Association staff\, and MJGA staff\, the clinic will focus on fundamental golf skills through hands-on instruction and practice. Sessions are grouped by age\, and there’s even a special session for adult beginners. \nAll equipment is provided. If you have golf clubs\, bring them! We’ll have clubs for those without. Just wear athletic clothing and tennis shoes and come ready to have fun! \nTentative Times and Age Groups:\n— Ages 5-9: 9:00 am – 10:00 am\n— Ages 10-12: 10:15 am – 11:15 am\n— Ages 13-18: 11:30 am – 12:30 pm\n— Adult Beginners: 12:45 pm – 1:45 pm \nREGISTER FOR THE FREE JUNIOR CLINIC AT THE MSU BUBBLE:\nClick Here to Register!\nSession times are tentative\, and may be adjusted based on registration numbers. \nQuestions? Email minotjuniorgolf@gmail.com
URL:https://minotjuniorgolf.com/event/mjgaclinicmsu2026/
LOCATION:Minot State University\, 500 University Ave W\, Minot\, ND\, 58701\, United States
CATEGORIES:Minot Junior Golf Association Event
ATTACH;FMTTYPE=image/png:https://minotjuniorgolf.com/wp-content/uploads/2026/02/Junior-Clinics-at-the-Bubble-2.png
ORGANIZER;CN="Minot Junior Golf Association":MAILTO:minotjuniorgolf@gmail.com
END:VEVENT
END:VCALENDAR